BEGIN:VCALENDAR
VERSION:2.0
PRODID:-//Cambridge Wine Royston, Hertfordshire - ECPv5.16.1.1//NONSGML v1.0//EN
CALSCALE:GREGORIAN
METHOD:PUBLISH
X-WR-CALNAME:Cambridge Wine Royston, Hertfordshire
X-ORIGINAL-URL:https://www.cambridgewineroyston.com
X-WR-CALDESC:Events for Cambridge Wine Royston, Hertfordshire
BEGIN:VTIMEZONE
TZID:Europe/London
BEGIN:DAYLIGHT
TZOFFSETFROM:+0000
TZOFFSETTO:+0100
TZNAME:BST
DTSTART:20260329T010000
END:DAYLIGHT
BEGIN:STANDARD
TZOFFSETFROM:+0100
TZOFFSETTO:+0000
TZNAME:GMT
DTSTART:20261025T010000
END:STANDARD
END:VTIMEZONE
BEGIN:VEVENT
DTSTART;TZID=Europe/London:20260501T170000
DTEND;TZID=Europe/London:20260501T210000
DTSTAMP:20260424T130514
CREATED:20260108T155605Z
LAST-MODIFIED:20260408T132436Z
UID:5043881-1777654800-1777669200@www.cambridgewineroyston.com
SUMMARY:Cheese & Winyl: On Sale Now!
DESCRIPTION:Hosted by Cambridge Wine Royston\, The Honest Fig\, Revolution Records & Buntingford Brewery  We’re back for 2026! Come along for our first  ‘Cheese & Winyl’ event of the year at Royston Corn Exchange. We expect this event to be busy\, we are releasing a number of spaces to book for 5:00-7:00pm and 7:15-9:15pm. There will be limited space for walk-ins\, keep an eye on social media for more information. If you book for session one and wish to stay later\, we will do our best to accommodate you.  Note that this is not a speaker-led tasting\, you can order whatever you like from the bar\, there will be a menu available with suggested pairings\, or why not experiment!  Booking is £15.00 per person\, and includes a wine and cheese pairing on arrival (or beer if you prefer). The wine/cheese/beer bar will then be open for you to purchase whatever you like\, while listening to cool tunes from Revolution Records\, enjoying a mild\, spring evening (we hope- dress for the weather!).  Please note that most tables are set up for 4 guests\, so if you book 2 tickets\, you may be on a sharing table with two other guests.  If you do not book in advance\, please come along as there will be walk-in tables available. *Please note that we will stop admissions when we reach capacity.
URL:https://www.cambridgewineroyston.com/event/cheese-winyl-may-2026/
LOCATION:Royston Corn Exchange\, Market Hill\, Royston\, SG8 9JR\, United Kingdom
ATTACH;FMTTYPE=image/png:https://www.cambridgewineroyston.com/wp-content/uploads/2026/01/2026-May-Cheese-Winyl.png
END:VEVENT
BEGIN:VEVENT
DTSTART;TZID=Europe/London:20260514T193000
DTEND;TZID=Europe/London:20260514T210000
DTSTAMP:20260424T130514
CREATED:20260212T093650Z
LAST-MODIFIED:20260212T093650Z
UID:5044289-1778787000-1778792400@www.cambridgewineroyston.com
SUMMARY:Wine Club: Discover Alsace
DESCRIPTION:With a history divided between nations and a rich viticultural heritage dating back to Roman times\, Alsace offers a unique wine style all of its own. Aromatic\, gastronomic and typically dry (despite the Germanic bottle shape) we’ll taste a selection from some of the best names in the region.
URL:https://www.cambridgewineroyston.com/event/wine-club-discover-alsace/
LOCATION:Cambridge Wine Royston\, 34b Kneesworth Street\, Royston\, Herts\, SG8 5AB\, United Kingdom
ATTACH;FMTTYPE=image/png:https://www.cambridgewineroyston.com/wp-content/uploads/2026/02/Wine-Club-Alsace.png
END:VEVENT
BEGIN:VEVENT
DTSTART;TZID=Europe/London:20260520T193000
DTEND;TZID=Europe/London:20260520T220000
DTSTAMP:20260424T130514
CREATED:20260204T172310Z
LAST-MODIFIED:20260404T085021Z
UID:5044218-1779305400-1779314400@www.cambridgewineroyston.com
SUMMARY:Wine Basics with Amelia
DESCRIPTION:Join us in store for a brand new kind of tasting! Over three Wednesday evenings in April\, May and June\, Amelia invites you for an informal and fun night of wine tasting with nibbles for beginners!  Wine can be confusing. Swirling\, sniffing\, mysterious tasting notes\, and wine lists that read like a foreign language. This series is here to change that.  Our Wine Basics events are made for beginners and wine lovers of all ages – no jargon\, no pressure – just good wine\, nibbles\, simple explanations\, and the confidence to actually enjoy what you’re drinking.  These events are casual and interactive. Ask questions\, interrupt\, laugh\, disagree\, and taste along with the group. If you’ve ever been afraid to ask a wine question\, this is exactly the place to do it. It’s more conversation than lecture\, and the focus is on learning by tasting.  We’ll cover how to taste wine without overthinking it\, how to order better (and stress less) in restaurants\, and the essential things you need to know to make sense of the wine world.  At each tasting we’ll cover new ideas and different wines\, so you don’t have to come to all three dates\, but if you can then you’ll go from beginner to expert in no time!  The best part? Every wine we taste will offer great value for money\, because great wine doesn’t need to be expensive.  Come curious. Leave confident.  Additional Dates: Wednesday 17th June + Wednesday 15th July  Tickets: £15 per person
URL:https://www.cambridgewineroyston.com/event/wine-basics-with-amelia-2/
LOCATION:Cambridge Wine Royston\, 34b Kneesworth Street\, Royston\, Herts\, SG8 5AB\, United Kingdom
ATTACH;FMTTYPE=image/png:https://www.cambridgewineroyston.com/wp-content/uploads/2026/02/Intro-to-wine-tastings-Instagram-Post-45-1.png
ORGANIZER;CN="Cambridge%20Wine%20Royston":MAILTO:royston@cambridgewine.com
END:VEVENT
BEGIN:VEVENT
DTSTART;TZID=Europe/London:20260528T193000
DTEND;TZID=Europe/London:20260528T210000
DTSTAMP:20260424T130514
CREATED:20260212T092740Z
LAST-MODIFIED:20260212T092740Z
UID:5044284-1779996600-1780002000@www.cambridgewineroyston.com
SUMMARY:Whisky Club: Fèis Ìle Royston!
DESCRIPTION:Celebrating The Islay Festival – a gathering of peated whisky and Islay fans\, and for those who cannot travel to Islay (e.g. Kenneth\, a father of two).  Fèis Ìle 2026 marks the 40th anniversary of this unique festival on Islay. It is not just about whisky\, but the culture\, spirit\, and more importantly\, the people who like and appreciate all of these.  Line-up: 100% Islay whisky for sure! Feel free to tell us your favourite Islay whisky distillery when you get your tickets. Your wish may come true!  P.S. By the way\, don’t ask AI\, can you name all existing distilleries on Islay nowadays?
URL:https://www.cambridgewineroyston.com/event/whisky-club-feis-ile-royston/
LOCATION:Cambridge Wine Royston\, 34b Kneesworth Street\, Royston\, Herts\, SG8 5AB\, United Kingdom
ATTACH;FMTTYPE=image/png:https://www.cambridgewineroyston.com/wp-content/uploads/2026/02/Whisky-Club-Islay.png
END:VEVENT
BEGIN:VEVENT
DTSTART;TZID=Europe/London:20260604T180000
DTEND;TZID=Europe/London:20260604T203000
DTSTAMP:20260424T130514
CREATED:20260130T142947Z
LAST-MODIFIED:20260130T142947Z
UID:5044128-1780596000-1780605000@www.cambridgewineroyston.com
SUMMARY:Royston Cave Wine Tasting with Château Roubine
DESCRIPTION:Step inside the mysterious Royston Cave for an unforgettable evening where history and wine come together. This unique event blends a guided tour of the cave with a wine tasting\, all taking place simultaneously within this remarkable underground space.  As you explore the carvings and stories of Royston Cave\, you’ll enjoy tastings of three rosé wines\, led by Valerie Rousselle of Château Roubine\, a celebrated Provençal estate with historic connections to the Knights Templar. Valerie will guide you through each rosé\, sharing insights into their style\, provenance\, and the traditions behind them.  The immersive format allows ancient history and modern craftsmanship to unfold together: carved stone walls\, evocative symbolism\, and elegant rosé wines experienced side by side. The result is a truly atmospheric evening where learning\, tasting\, and discovery happen in tandem.  Whether you’re a history enthusiast\, a wine lover\, or simply seeking a distinctive and memorable night out\, this event offers something exceptional. Numbers are limited\, ensuring an intimate experience beneath Royston in one of Hertfordshire’s most intriguing and enigmatic landmarks.  Two sessions will be available to choose from:  Session 1:  6:00pm – 7:00pm Session 2: 7:30pm – 8:30pm  Access  The cave can be slippery and uneven underfoot. Access includes 21 steps and an incline to be ascended and descended. Visitors are advised to take care\, use the handrail provided and wear appropriate\, sturdy footwear. ​ There is no wheelchair or pushchair access.​ Take care as historic sites can be dangerous.
URL:https://www.cambridgewineroyston.com/event/royston-cave-wine-tasting-with-chateau-roubine/
LOCATION:Royston Cave\, Melbourn Street\, Royston\, SG8 7BZ\, United Kingdom
ATTACH;FMTTYPE=image/png:https://www.cambridgewineroyston.com/wp-content/uploads/2026/01/royston-cave-tasting-June-26.png
END:VEVENT
BEGIN:VEVENT
DTSTART;TZID=Europe/London:20260617T193000
DTEND;TZID=Europe/London:20260617T220000
DTSTAMP:20260424T130514
CREATED:20260204T172840Z
LAST-MODIFIED:20260404T085146Z
UID:5044224-1781724600-1781733600@www.cambridgewineroyston.com
SUMMARY:Wine Basics with Amelia
DESCRIPTION:Join us in store for a brand new kind of tasting! Over three Wednesday evenings in April\, May and June\, Amelia invites you for an informal and fun night of wine tasting with nibbles for beginners!  Wine can be confusing. Swirling\, sniffing\, mysterious tasting notes\, and wine lists that read like a foreign language. This series is here to change that.  Our Wine Basics events are made for beginners and wine lovers of all ages – no jargon\, no pressure – just good wine\, nibbles\, simple explanations\, and the confidence to actually enjoy what you’re drinking.  These events are casual and interactive. Ask questions\, interrupt\, laugh\, disagree\, and taste along with the group. If you’ve ever been afraid to ask a wine question\, this is exactly the place to do it. It’s more conversation than lecture\, and the focus is on learning by tasting.  We’ll cover how to taste wine without overthinking it\, how to order better (and stress less) in restaurants\, and the essential things you need to know to make sense of the wine world.  At each tasting we’ll cover new ideas and different wines\, so you don’t have to come to all three dates\, but if you can then you’ll go from beginner to expert in no time!  The best part? Every wine we taste will offer great value for money\, because great wine doesn’t need to be expensive.  Come curious. Leave confident.  Additional dates: Wednesday 15th July (Wednesday 20th May)  Tickets: £15 per person
URL:https://www.cambridgewineroyston.com/event/wine-basics-with-amelia-3/
LOCATION:Cambridge Wine Royston\, 34b Kneesworth Street\, Royston\, Herts\, SG8 5AB\, United Kingdom
ATTACH;FMTTYPE=image/png:https://www.cambridgewineroyston.com/wp-content/uploads/2026/02/Intro-to-wine-tastings-Instagram-Post-45-2.png
ORGANIZER;CN="Cambridge%20Wine%20Royston":MAILTO:royston@cambridgewine.com
END:VEVENT
BEGIN:VEVENT
DTSTART;TZID=Europe/London:20260625T193000
DTEND;TZID=Europe/London:20260625T210000
DTSTAMP:20260424T130514
CREATED:20260212T104500Z
LAST-MODIFIED:20260212T104500Z
UID:5044295-1782415800-1782421200@www.cambridgewineroyston.com
SUMMARY:Wine Club: Celebrating English Wine Week
DESCRIPTION:Wine Club celebrates English Wine week!  English wine goes from strength to strength\, with notable increases in volume and quality\, not to mention significant victories in international competitions.  We’ll look at new trends\, emerging producers and find out what the latest vintages have in store.
URL:https://www.cambridgewineroyston.com/event/wine-club-celebrating-english-wine-week/
LOCATION:Cambridge Wine Royston\, 34b Kneesworth Street\, Royston\, Herts\, SG8 5AB\, United Kingdom
ATTACH;FMTTYPE=image/png:https://www.cambridgewineroyston.com/wp-content/uploads/2026/02/Wine-Club-English-Wine.png
END:VEVENT
BEGIN:VEVENT
DTSTART;TZID=Europe/London:20260715T193000
DTEND;TZID=Europe/London:20260715T220000
DTSTAMP:20260424T130514
CREATED:20260204T171754Z
LAST-MODIFIED:20260404T084934Z
UID:5044212-1784143800-1784152800@www.cambridgewineroyston.com
SUMMARY:Wine Basics with Amelia
DESCRIPTION:Join us in store for a brand new kind of tasting! Over three Wednesday evenings in April\, May and June\, Amelia invites you for an informal and fun night of wine tasting with nibbles for beginners!  Wine can be confusing. Swirling\, sniffing\, mysterious tasting notes\, and wine lists that read like a foreign language. This series is here to change that.  Our Wine Basics events are made for beginners and wine lovers of all ages – no jargon\, no pressure – just good wine\, nibbles\, simple explanations\, and the confidence to actually enjoy what you’re drinking.  These events are casual and interactive. Ask questions\, interrupt\, laugh\, disagree\, and taste along with the group. If you’ve ever been afraid to ask a wine question\, this is exactly the place to do it. It’s more conversation than lecture\, and the focus is on learning by tasting.  We’ll cover how to taste wine without overthinking it\, how to order better (and stress less) in restaurants\, and the essential things you need to know to make sense of the wine world.  At each tasting we’ll cover new ideas and different wines\, so you don’t have to come to all three dates\, but if you can then you’ll go from beginner to expert in no time!  The best part? Every wine we taste will offer great value for money\, because great wine doesn’t need to be expensive.  Come curious. Leave confident.  Tickets: £15 per person
URL:https://www.cambridgewineroyston.com/event/wine-basics-with-amelia/
LOCATION:Cambridge Wine Royston\, 34b Kneesworth Street\, Royston\, Herts\, SG8 5AB\, United Kingdom
ATTACH;FMTTYPE=image/png:https://www.cambridgewineroyston.com/wp-content/uploads/2026/02/Intro-to-wine-tastings-Instagram-Post-45-3.png
ORGANIZER;CN="Cambridge%20Wine%20Royston":MAILTO:royston@cambridgewine.com
END:VEVENT
BEGIN:VEVENT
DTSTART;TZID=Europe/London:20260723T193000
DTEND;TZID=Europe/London:20260723T210000
DTSTAMP:20260424T130514
CREATED:20260212T105727Z
LAST-MODIFIED:20260212T105727Z
UID:5044301-1784835000-1784840400@www.cambridgewineroyston.com
SUMMARY:Wine Club: Wines from a Small Island...
DESCRIPTION:Island nations often exhibit diverse cultural influences yet retain a strong sense of national identity – ideal foundations for a thriving wine scene! For this tasting we’ll enjoy a range of wonderful wines from a selection of rather picturesque locations.
URL:https://www.cambridgewineroyston.com/event/wine-club-wines-from-a-small-island/
ATTACH;FMTTYPE=image/png:https://www.cambridgewineroyston.com/wp-content/uploads/2026/02/Wine-Club-Islands.png
END:VEVENT
END:VCALENDAR