BEGIN:VCALENDAR
VERSION:2.0
PRODID:-//Cambridge Wine Royston, Hertfordshire - ECPv5.16.1.1//NONSGML v1.0//EN
CALSCALE:GREGORIAN
METHOD:PUBLISH
X-WR-CALNAME:Cambridge Wine Royston, Hertfordshire
X-ORIGINAL-URL:https://www.cambridgewineroyston.com
X-WR-CALDESC:Events for Cambridge Wine Royston, Hertfordshire
BEGIN:VTIMEZONE
TZID:Europe/London
BEGIN:DAYLIGHT
TZOFFSETFROM:+0000
TZOFFSETTO:+0100
TZNAME:BST
DTSTART:20240331T010000
END:DAYLIGHT
BEGIN:STANDARD
TZOFFSETFROM:+0100
TZOFFSETTO:+0000
TZNAME:GMT
DTSTART:20241027T010000
END:STANDARD
END:VTIMEZONE
BEGIN:VEVENT
DTSTART;TZID=Europe/London:20240327T193000
DTEND;TZID=Europe/London:20240327T210000
DTSTAMP:20260425T014948
CREATED:20231219T191339Z
LAST-MODIFIED:20231219T191339Z
UID:4039485-1711567800-1711573200@www.cambridgewineroyston.com
SUMMARY:Wine Tasting: Ste Michelle\, Washington State
DESCRIPTION:An evening tasting wines from the pioneers for the Washington State region.
URL:https://www.cambridgewineroyston.com/event/wine-tasting-ste-michelle-washington-state/
LOCATION:No.41 Royston\, 41 Kneesworth Street\, Royston\, Hertfordshire\, SG8 5AB\, United Kingdom
ATTACH;FMTTYPE=image/png:https://www.cambridgewineroyston.com/wp-content/uploads/2023/12/Ste-Michelle.png
END:VEVENT
END:VCALENDAR