BEGIN:VCALENDAR
VERSION:2.0
PRODID:-//Cambridge Wine Royston, Hertfordshire - ECPv5.16.1.1//NONSGML v1.0//EN
CALSCALE:GREGORIAN
METHOD:PUBLISH
X-WR-CALNAME:Cambridge Wine Royston, Hertfordshire
X-ORIGINAL-URL:https://www.cambridgewineroyston.com
X-WR-CALDESC:Events for Cambridge Wine Royston, Hertfordshire
BEGIN:VTIMEZONE
TZID:Europe/London
BEGIN:DAYLIGHT
TZOFFSETFROM:+0000
TZOFFSETTO:+0100
TZNAME:BST
DTSTART:20240331T010000
END:DAYLIGHT
BEGIN:STANDARD
TZOFFSETFROM:+0100
TZOFFSETTO:+0000
TZNAME:GMT
DTSTART:20241027T010000
END:STANDARD
END:VTIMEZONE
BEGIN:VEVENT
DTSTART;TZID=Europe/London:20240417T193000
DTEND;TZID=Europe/London:20240417T210000
DTSTAMP:20260425T015604
CREATED:20231219T195005Z
LAST-MODIFIED:20240212T113235Z
UID:4039495-1713382200-1713387600@www.cambridgewineroyston.com
SUMMARY:Wine Tasting: Spy Valley\, New Zealand
DESCRIPTION:A wine tasting with Spy Valley\, one of Marlborough’s most acclaimed wineries.
URL:https://www.cambridgewineroyston.com/event/wine-tasting-spy-valley-new-zealand/
LOCATION:No.41 Royston\, 41 Kneesworth Street\, Royston\, Hertfordshire\, SG8 5AB\, United Kingdom
ATTACH;FMTTYPE=image/png:https://www.cambridgewineroyston.com/wp-content/uploads/2023/12/Spy-Valley-2.png
END:VEVENT
END:VCALENDAR