BEGIN:VCALENDAR
VERSION:2.0
PRODID:-//Cambridge Wine Royston, Hertfordshire - ECPv5.16.1.1//NONSGML v1.0//EN
CALSCALE:GREGORIAN
METHOD:PUBLISH
X-WR-CALNAME:Cambridge Wine Royston, Hertfordshire
X-ORIGINAL-URL:https://www.cambridgewineroyston.com
X-WR-CALDESC:Events for Cambridge Wine Royston, Hertfordshire
BEGIN:VTIMEZONE
TZID:Europe/London
BEGIN:DAYLIGHT
TZOFFSETFROM:+0000
TZOFFSETTO:+0100
TZNAME:BST
DTSTART:20250330T010000
END:DAYLIGHT
BEGIN:STANDARD
TZOFFSETFROM:+0100
TZOFFSETTO:+0000
TZNAME:GMT
DTSTART:20251026T010000
END:STANDARD
END:VTIMEZONE
BEGIN:VEVENT
DTSTART;TZID=Europe/London:20251113T193000
DTEND;TZID=Europe/London:20251113T210000
DTSTAMP:20260424T202704
CREATED:20250424T093051Z
LAST-MODIFIED:20250903T155814Z
UID:5042489-1763062200-1763067600@www.cambridgewineroyston.com
SUMMARY:Wine Tasting: Northern Italy
DESCRIPTION:This time Wine Club will showcase the amazing quality and finesse of Northern Italian wines. From fresh and elegant whites to complex\, powerful reds\, the region’s winemakers take local varieties and create wines of passion\, precision and real beauty.
URL:https://www.cambridgewineroyston.com/event/wine-tasting-northern-italy/
LOCATION:Cambridge Wine Royston\, 34b Kneesworth Street\, Royston\, Herts\, SG8 5AB\, United Kingdom
ATTACH;FMTTYPE=image/png:https://www.cambridgewineroyston.com/wp-content/uploads/2025/04/Wine-Club-Northern-Italy-Instagram-Post-45.png
END:VEVENT
END:VCALENDAR