BEGIN:VCALENDAR
VERSION:2.0
PRODID:-//Cambridge Wine Royston, Hertfordshire - ECPv5.16.1.1//NONSGML v1.0//EN
CALSCALE:GREGORIAN
METHOD:PUBLISH
X-WR-CALNAME:Cambridge Wine Royston, Hertfordshire
X-ORIGINAL-URL:https://www.cambridgewineroyston.com
X-WR-CALDESC:Events for Cambridge Wine Royston, Hertfordshire
BEGIN:VTIMEZONE
TZID:Europe/London
BEGIN:DAYLIGHT
TZOFFSETFROM:+0000
TZOFFSETTO:+0100
TZNAME:BST
DTSTART:20240331T010000
END:DAYLIGHT
BEGIN:STANDARD
TZOFFSETFROM:+0100
TZOFFSETTO:+0000
TZNAME:GMT
DTSTART:20241027T010000
END:STANDARD
END:VTIMEZONE
BEGIN:VEVENT
DTSTART;TZID=Europe/London:20240228T193000
DTEND;TZID=Europe/London:20240228T210000
DTSTAMP:20260425T015015
CREATED:20231219T182625Z
LAST-MODIFIED:20231220T171245Z
UID:4039472-1709148600-1709154000@www.cambridgewineroyston.com
SUMMARY:Wine Tasting: Mission Hill\, Canada
DESCRIPTION:Join us to experience fine wine from award-winning Canadian Winery\, Mission Hill.
URL:https://www.cambridgewineroyston.com/event/wine-tasting-mission-hill-canada/
LOCATION:No.41 Royston\, 41 Kneesworth Street\, Royston\, Hertfordshire\, SG8 5AB\, United Kingdom
ATTACH;FMTTYPE=image/png:https://www.cambridgewineroyston.com/wp-content/uploads/2023/12/Mission-Hill.png
END:VEVENT
END:VCALENDAR