BEGIN:VCALENDAR
VERSION:2.0
PRODID:-//Cambridge Wine Royston, Hertfordshire - ECPv5.16.1.1//NONSGML v1.0//EN
CALSCALE:GREGORIAN
METHOD:PUBLISH
X-WR-CALNAME:Cambridge Wine Royston, Hertfordshire
X-ORIGINAL-URL:https://www.cambridgewineroyston.com
X-WR-CALDESC:Events for Cambridge Wine Royston, Hertfordshire
BEGIN:VTIMEZONE
TZID:Europe/London
BEGIN:DAYLIGHT
TZOFFSETFROM:+0000
TZOFFSETTO:+0100
TZNAME:BST
DTSTART:20240331T010000
END:DAYLIGHT
BEGIN:STANDARD
TZOFFSETFROM:+0100
TZOFFSETTO:+0000
TZNAME:GMT
DTSTART:20241027T010000
END:STANDARD
END:VTIMEZONE
BEGIN:VEVENT
DTSTART;TZID=Europe/London:20240124T193000
DTEND;TZID=Europe/London:20240124T210000
DTSTAMP:20260423T100024
CREATED:20231219T162819Z
LAST-MODIFIED:20231219T162819Z
UID:4039446-1706124600-1706130000@www.cambridgewineroyston.com
SUMMARY:Wine Tasting: Caballo Loco\, Chile
DESCRIPTION:Caballo Loco – meaning ‘Crazy Horse’ in Spanish – perfectly represents its namesake: enormously energetic\, charismatic\, and entirely memorable.
URL:https://www.cambridgewineroyston.com/event/wine-tasting-caballo-loco-chile/
LOCATION:Cambridge Wine Royston\, 34b Kneesworth Street\, Royston\, Herts\, SG8 5AB\, United Kingdom
ATTACH;FMTTYPE=image/png:https://www.cambridgewineroyston.com/wp-content/uploads/2023/12/Caballo-Loco.png
END:VEVENT
END:VCALENDAR