BEGIN:VCALENDAR
VERSION:2.0
PRODID:-//Cambridge Wine Royston, Hertfordshire - ECPv5.16.1.1//NONSGML v1.0//EN
CALSCALE:GREGORIAN
METHOD:PUBLISH
X-WR-CALNAME:Cambridge Wine Royston, Hertfordshire
X-ORIGINAL-URL:https://www.cambridgewineroyston.com
X-WR-CALDESC:Events for Cambridge Wine Royston, Hertfordshire
BEGIN:VTIMEZONE
TZID:Europe/London
BEGIN:DAYLIGHT
TZOFFSETFROM:+0000
TZOFFSETTO:+0100
TZNAME:BST
DTSTART:20260329T010000
END:DAYLIGHT
BEGIN:STANDARD
TZOFFSETFROM:+0100
TZOFFSETTO:+0000
TZNAME:GMT
DTSTART:20261025T010000
END:STANDARD
END:VTIMEZONE
BEGIN:VEVENT
DTSTART;TZID=Europe/London:20260319T193000
DTEND;TZID=Europe/London:20260319T193000
DTSTAMP:20260424T184219
CREATED:20260108T133752Z
LAST-MODIFIED:20260217T143314Z
UID:5043864-1773948600-1773948600@www.cambridgewineroyston.com
SUMMARY:Wine Club: The Mighty Rhône
DESCRIPTION:The Rhone valley has an impressive array of quality wine choices\, and some beautiful scenery to boot. We’ll try a wide range of styles from subtle whites to luscious rosés\, blockbuster reds and super sweet treats. With world famous vineyards as well as smaller scale local heroes offering great value\, this region has so much to offer.
URL:https://www.cambridgewineroyston.com/event/wine-club-the-mighty-rhone/
LOCATION:Cambridge Wine Royston\, 34b Kneesworth Street\, Royston\, Herts\, SG8 5AB\, United Kingdom
ATTACH;FMTTYPE=image/png:https://www.cambridgewineroyston.com/wp-content/uploads/2026/01/WC-Rhone.png
END:VEVENT
END:VCALENDAR