BEGIN:VCALENDAR
VERSION:2.0
PRODID:-//Cambridge Wine Royston, Hertfordshire - ECPv5.16.1.1//NONSGML v1.0//EN
CALSCALE:GREGORIAN
METHOD:PUBLISH
X-WR-CALNAME:Cambridge Wine Royston, Hertfordshire
X-ORIGINAL-URL:https://www.cambridgewineroyston.com
X-WR-CALDESC:Events for Cambridge Wine Royston, Hertfordshire
BEGIN:VTIMEZONE
TZID:Europe/London
BEGIN:DAYLIGHT
TZOFFSETFROM:+0000
TZOFFSETTO:+0100
TZNAME:BST
DTSTART:20240331T010000
END:DAYLIGHT
BEGIN:STANDARD
TZOFFSETFROM:+0100
TZOFFSETTO:+0000
TZNAME:GMT
DTSTART:20241027T010000
END:STANDARD
END:VTIMEZONE
BEGIN:VEVENT
DTSTART;TZID=Europe/London:20241017T193000
DTEND;TZID=Europe/London:20241017T210000
DTSTAMP:20260424T221438
CREATED:20240830T140811Z
LAST-MODIFIED:20240830T140811Z
UID:4540960-1729193400-1729198800@www.cambridgewineroyston.com
SUMMARY:Wine Club: Exploring Roussillon
DESCRIPTION:Join Clive for a journey through the Roussillon. Explore this dynamic region and all it has to offer.
URL:https://www.cambridgewineroyston.com/event/wine-club-exploring-roussillon/
LOCATION:Royston Museum\, 5 Lower King St\, Royston\, SG8 5AL\, United Kingdom
ATTACH;FMTTYPE=image/png:https://www.cambridgewineroyston.com/wp-content/uploads/2024/08/Wine-Club-Roussillon.png
END:VEVENT
END:VCALENDAR