BEGIN:VCALENDAR
VERSION:2.0
PRODID:-//Cambridge Wine Royston, Hertfordshire - ECPv5.16.1.1//NONSGML v1.0//EN
CALSCALE:GREGORIAN
METHOD:PUBLISH
X-WR-CALNAME:Cambridge Wine Royston, Hertfordshire
X-ORIGINAL-URL:https://www.cambridgewineroyston.com
X-WR-CALDESC:Events for Cambridge Wine Royston, Hertfordshire
BEGIN:VTIMEZONE
TZID:Europe/London
BEGIN:DAYLIGHT
TZOFFSETFROM:+0000
TZOFFSETTO:+0100
TZNAME:BST
DTSTART:20240331T010000
END:DAYLIGHT
BEGIN:STANDARD
TZOFFSETFROM:+0100
TZOFFSETTO:+0000
TZNAME:GMT
DTSTART:20241027T010000
END:STANDARD
END:VTIMEZONE
BEGIN:VEVENT
DTSTART;TZID=Europe/London:20240307T193000
DTEND;TZID=Europe/London:20240307T210000
DTSTAMP:20260425T021548
CREATED:20231219T181026Z
LAST-MODIFIED:20240221T161341Z
UID:4039464-1709839800-1709845200@www.cambridgewineroyston.com
SUMMARY:Wine Club 2024: Part 2 of 3 - "Grapes you've never heard of"
DESCRIPTION:Join Clive for a journey through the world of wine.  Grapes you’ve never heard of – wines to pique your palate! Celebrating a choice selection of lesser-known grape varieties\, which nonetheless produce excellent wines. Discover a new favourite!         
URL:https://www.cambridgewineroyston.com/event/wine-club-2024-part-2-of-3/
LOCATION:Royston Museum\, 5 Lower King St\, Royston\, SG8 5AL\, United Kingdom
ATTACH;FMTTYPE=image/png:https://www.cambridgewineroyston.com/wp-content/uploads/2023/12/Wine-Club-2.png
END:VEVENT
END:VCALENDAR