BEGIN:VCALENDAR
VERSION:2.0
PRODID:-//Cambridge Wine Royston, Hertfordshire - ECPv5.16.1.1//NONSGML v1.0//EN
CALSCALE:GREGORIAN
METHOD:PUBLISH
X-WR-CALNAME:Cambridge Wine Royston, Hertfordshire
X-ORIGINAL-URL:https://www.cambridgewineroyston.com
X-WR-CALDESC:Events for Cambridge Wine Royston, Hertfordshire
BEGIN:VTIMEZONE
TZID:Europe/London
BEGIN:DAYLIGHT
TZOFFSETFROM:+0000
TZOFFSETTO:+0100
TZNAME:BST
DTSTART:20260329T010000
END:DAYLIGHT
BEGIN:STANDARD
TZOFFSETFROM:+0100
TZOFFSETTO:+0000
TZNAME:GMT
DTSTART:20261025T010000
END:STANDARD
END:VTIMEZONE
BEGIN:VEVENT
DTSTART;TZID=Europe/London:20260225T193000
DTEND;TZID=Europe/London:20260225T193000
DTSTAMP:20260424T184252
CREATED:20260108T124631Z
LAST-MODIFIED:20260204T152449Z
UID:5043844-1772047800-1772047800@www.cambridgewineroyston.com
SUMMARY:Whisky Club: Welcome to Whisky!
DESCRIPTION:Welcome to whisky – welcome to our local Whisky Club!  In this tasting\, a flight of five different whiskies\, from Scotch to English\, and even Australian\, will be shown to you = us (We were all once beginners). No prior knowledges\, no whisky drinking experience\, never joined any tastings…that doesn’t matter! We will welcome all of you to enter the world of whisk(e)y! Explore whiskies of different regions\, styles\, and specifications. A very casual “Whisky Talk”! In the end\, the water of life (Aqua vitae) speaks all!
URL:https://www.cambridgewineroyston.com/event/whisky-club-welcome-to-whisky/
LOCATION:Cambridge Wine Royston\, 34b Kneesworth Street\, Royston\, Herts\, SG8 5AB\, United Kingdom
ATTACH;FMTTYPE=image/png:https://www.cambridgewineroyston.com/wp-content/uploads/2026/01/Welcom-to-Whisky.png
END:VEVENT
END:VCALENDAR