BEGIN:VCALENDAR
VERSION:2.0
PRODID:-//Cambridge Wine Royston, Hertfordshire - ECPv5.16.1.1//NONSGML v1.0//EN
CALSCALE:GREGORIAN
METHOD:PUBLISH
X-WR-CALNAME:Cambridge Wine Royston, Hertfordshire
X-ORIGINAL-URL:https://www.cambridgewineroyston.com
X-WR-CALDESC:Events for Cambridge Wine Royston, Hertfordshire
BEGIN:VTIMEZONE
TZID:Europe/London
BEGIN:DAYLIGHT
TZOFFSETFROM:+0000
TZOFFSETTO:+0100
TZNAME:BST
DTSTART:20250330T010000
END:DAYLIGHT
BEGIN:STANDARD
TZOFFSETFROM:+0100
TZOFFSETTO:+0000
TZNAME:GMT
DTSTART:20251026T010000
END:STANDARD
END:VTIMEZONE
BEGIN:VEVENT
DTSTART;TZID=Europe/London:20250715T193000
DTEND;TZID=Europe/London:20250716T210000
DTSTAMP:20260424T203706
CREATED:20250612T151836Z
LAST-MODIFIED:20250625T092451Z
UID:5042750-1752607800-1752699600@www.cambridgewineroyston.com
SUMMARY:Whisky Club: Summer Specials
DESCRIPTION:With our in-house whisky expert\, Kenneth\, we’ll be revisiting some old favourites and finding some new discoveries this July.   Due to the popular demand of our Whisky Club nights we’ll be running this tasting on two evenings: Tuesday 15th and Wednesday 16th July! Make sure to select your date when purchasing your tickets.  Timings: 7.30pm to 9pm   Wether you’re new to the world of whisky or an aficionado this will be a great evening you don’t want to miss!   What to Expect? Five whiskies to try Great knowledge from your host\, Kenneth Discounts on everything you’ll try  TICKETS ONLY £20.00 PER PERSON
URL:https://www.cambridgewineroyston.com/event/whisky-club-summer-specials/
LOCATION:Cambridge Wine Royston\, 34b Kneesworth Street\, Royston\, Herts\, SG8 5AB\, United Kingdom
ATTACH;FMTTYPE=image/png:https://www.cambridgewineroyston.com/wp-content/uploads/2025/06/Whisky-Tasting-Summer-Specials.png
ORGANIZER;CN="Cambridge%20Wine%20Royston":MAILTO:royston@cambridgewine.com
END:VEVENT
END:VCALENDAR