BEGIN:VCALENDAR
VERSION:2.0
PRODID:-//Cambridge Wine Royston, Hertfordshire - ECPv5.16.1.1//NONSGML v1.0//EN
CALSCALE:GREGORIAN
METHOD:PUBLISH
X-WR-CALNAME:Cambridge Wine Royston, Hertfordshire
X-ORIGINAL-URL:https://www.cambridgewineroyston.com
X-WR-CALDESC:Events for Cambridge Wine Royston, Hertfordshire
BEGIN:VTIMEZONE
TZID:Europe/London
BEGIN:DAYLIGHT
TZOFFSETFROM:+0000
TZOFFSETTO:+0100
TZNAME:BST
DTSTART:20240331T010000
END:DAYLIGHT
BEGIN:STANDARD
TZOFFSETFROM:+0100
TZOFFSETTO:+0000
TZNAME:GMT
DTSTART:20241027T010000
END:STANDARD
END:VTIMEZONE
BEGIN:VEVENT
DTSTART;TZID=Europe/London:20240808T193000
DTEND;TZID=Europe/London:20240808T210000
DTSTAMP:20260425T013158
CREATED:20240606T115902Z
LAST-MODIFIED:20240704T125537Z
UID:4040253-1723145400-1723150800@www.cambridgewineroyston.com
SUMMARY:Summer Rosé Wine Tasting
DESCRIPTION:Come along to taste a selection of wines from a category that is booming! You may even find your perfect summer sipper. Hosted by Clive Powell. 
URL:https://www.cambridgewineroyston.com/event/summer-rose-wine-tasting-3/
LOCATION:Cambridge Wine Royston\, 34b Kneesworth Street\, Royston\, Herts\, SG8 5AB\, United Kingdom
ATTACH;FMTTYPE=image/png:https://www.cambridgewineroyston.com/wp-content/uploads/2024/06/Rose-Tasting-July-2024-2.png
END:VEVENT
END:VCALENDAR