BEGIN:VCALENDAR
VERSION:2.0
PRODID:-//Cambridge Wine Royston, Hertfordshire - ECPv5.16.1.1//NONSGML v1.0//EN
CALSCALE:GREGORIAN
METHOD:PUBLISH
X-WR-CALNAME:Cambridge Wine Royston, Hertfordshire
X-ORIGINAL-URL:https://www.cambridgewineroyston.com
X-WR-CALDESC:Events for Cambridge Wine Royston, Hertfordshire
BEGIN:VTIMEZONE
TZID:Europe/London
BEGIN:DAYLIGHT
TZOFFSETFROM:+0000
TZOFFSETTO:+0100
TZNAME:BST
DTSTART:20240331T010000
END:DAYLIGHT
BEGIN:STANDARD
TZOFFSETFROM:+0100
TZOFFSETTO:+0000
TZNAME:GMT
DTSTART:20241027T010000
END:STANDARD
END:VTIMEZONE
BEGIN:VEVENT
DTSTART;TZID=Europe/London:20240426T193000
DTEND;TZID=Europe/London:20240426T220000
DTSTAMP:20260425T014857
CREATED:20231220T155823Z
LAST-MODIFIED:20231220T155823Z
UID:4039508-1714159800-1714168800@www.cambridgewineroyston.com
SUMMARY:Cocktail Club: Spiced Rum Cocktails
DESCRIPTION:Join Steve the Barman for a night of cocktails and canapés!  Tonights theme\, ‘Spiced Rum Cocktails!’   
URL:https://www.cambridgewineroyston.com/event/spiced-rum-cocktails/
LOCATION:Kooky Nohmad\, 42 High St\, Royston\, SG8 9AG\, United Kingdom
ATTACH;FMTTYPE=image/png:https://www.cambridgewineroyston.com/wp-content/uploads/2023/12/Cocktail-Club-Spiced-Rum.png
END:VEVENT
END:VCALENDAR