BEGIN:VCALENDAR
VERSION:2.0
PRODID:-//Cambridge Wine Royston, Hertfordshire - ECPv5.16.1.1//NONSGML v1.0//EN
CALSCALE:GREGORIAN
METHOD:PUBLISH
X-WR-CALNAME:Cambridge Wine Royston, Hertfordshire
X-ORIGINAL-URL:https://www.cambridgewineroyston.com
X-WR-CALDESC:Events for Cambridge Wine Royston, Hertfordshire
BEGIN:VTIMEZONE
TZID:UTC
BEGIN:STANDARD
TZOFFSETFROM:+0000
TZOFFSETTO:+0000
TZNAME:UTC
DTSTART:20180101T000000
END:STANDARD
END:VTIMEZONE
BEGIN:VEVENT
DTSTART;TZID=UTC:20180907T193000
DTEND;TZID=UTC:20180907T220000
DTSTAMP:20260419T154420
CREATED:20180802T091502Z
LAST-MODIFIED:20180903T170252Z
UID:28877-1536348600-1536357600@www.cambridgewineroyston.com
SUMMARY:RWSF: Annual Wine Dinner
DESCRIPTION:Friday 7th September 2018 Royston Wine & Spirits Festival Annual Wine Dinner with Martin Skelton  We are privileged to have Martin Skelton\, the MD of Gonzalez Byass\, host our annual Wine Fair Dinner. Martin will select a prestigious range of top wines with carefully chosen dishes to compliment.  About Gonzalez Byass:  It was in 1835 when the young Manuel María González Ángel founded González Byass and started a long\, and passion-filled journey\, dedicated to the world of wine.  Manuel Mª found the support he needed\, to get this fascinating business dedicated to Sherry wine started\, in his uncle\, José Ángel\, Tío Pepe (Uncle Joe). It was he who showed his nephew everything he knew about Fino wines.  Inspired by the continual development in export and the growing success of his company\, Manuel María González decided to join forces with Robert Blake Byass\, his English agent\, to whom he wrote a letter in 1844\, recommending that Byass sell an “exceptionally pale…” wine. These were the very first barrels of Tío Pepe that were sent to the United Kingdom where they were very well received.  The commercial Alliance between the Byass and González families continued until 1988 when the Byass family withdrew from the business and the winery passed into the hands of the direct descendants of Manuel María González.  Today\, it continues to be a family winery\, presided over by the 5th generation of the González family who have always shown their passion for the world of wine\, their love of nature and their care for the environment.  The González family’s passion for wine does not just limit itself to the wines of Jerez\, but stretches across the world\, having transformed itself into a Family of Wine\, which faithfully represents the viticultural diversity of Spain. In keeping with this ethos\, more than 30 years ago González Byass began to incorporate other wineries into its family from some of Spain’s most emblematic regions. Amongst them are Bodegas Beronia -D.O.Ca. Rioja-\, Viñas del Vero -D.O. Somontano-\, Cavas Vilarnau -D.O. Cava-\, Finca Constancia -V.T. Castilla-\, Finca Moncloa -V.T. Cádiz-\, Beronia Verdejo -D.O. Rueda-  and Pazos de Lusco -D.O. Rías Baixas. In 2016\, the company leapt out of Spain into the New World\, bringing the Chilean\, family winery Veramonte into the fold.  Tickets: £45.00  Venue: The Old Bull Inn\, High Street\, Royston  Time: 7:30pm  Date: Friday 7th September 2018  Tickets available from:  CAMBRIDGE WINE ROYSTON  34B Kneesworth Street\, Royston\, Hertfordshire\, SG8 5AB  T. 01763 247076  E. royston@cambridgewine.com
URL:https://www.cambridgewineroyston.com/event/rwsf-annual-wine-dinner/
LOCATION:The Old Bull Inn\, 56 High St\, Royston\, Herts\, SG8 9AW\, United Kingdom
ATTACH;FMTTYPE=image/jpeg:https://www.cambridgewineroyston.com/wp-content/uploads/2018/08/gb-rwsf.jpg
ORGANIZER;CN="Cambridge%20Wine%20Royston":MAILTO:royston@cambridgewine.com
END:VEVENT
END:VCALENDAR