BEGIN:VCALENDAR
VERSION:2.0
PRODID:-//Cambridge Wine Royston, Hertfordshire - ECPv5.16.1.1//NONSGML v1.0//EN
CALSCALE:GREGORIAN
METHOD:PUBLISH
X-WR-CALNAME:Cambridge Wine Royston, Hertfordshire
X-ORIGINAL-URL:https://www.cambridgewineroyston.com
X-WR-CALDESC:Events for Cambridge Wine Royston, Hertfordshire
BEGIN:VTIMEZONE
TZID:Europe/London
BEGIN:DAYLIGHT
TZOFFSETFROM:+0000
TZOFFSETTO:+0100
TZNAME:BST
DTSTART:20250330T010000
END:DAYLIGHT
BEGIN:STANDARD
TZOFFSETFROM:+0100
TZOFFSETTO:+0000
TZNAME:GMT
DTSTART:20251026T010000
END:STANDARD
END:VTIMEZONE
BEGIN:VEVENT
DTSTART;TZID=Europe/London:20251120T193000
DTEND;TZID=Europe/London:20251120T210000
DTSTAMP:20260424T203752
CREATED:20250901T151115Z
LAST-MODIFIED:20251110T142332Z
UID:5043252-1763667000-1763672400@www.cambridgewineroyston.com
SUMMARY:Portuguese Wine Tasting: Quinta da Pedra Alta
DESCRIPTION:Join us for an exclusive tasting with Quinta da Pedra Alta\, a renowned estate in Portugal’s Douro Valley. Explore a hand-picked selection of their elegant still wines and distinctive Ports\, each reflecting the unique terroir and tradition of the region. Learn about their winemaking philosophy\, vineyard practices\, and the rich history behind both their wines and fortified expressions. A relaxed\, informative evening for anyone curious about the depth and diversity of Portuguese wine.
URL:https://www.cambridgewineroyston.com/event/portuguese-wine-tasting-quinta-da-pedra-alta/
LOCATION:Cambridge Wine Royston\, 34b Kneesworth Street\, Royston\, Herts\, SG8 5AB\, United Kingdom
ATTACH;FMTTYPE=image/png:https://www.cambridgewineroyston.com/wp-content/uploads/2025/09/Pedra-Alta-Tasting-11th-November.png
END:VEVENT
END:VCALENDAR