BEGIN:VCALENDAR
VERSION:2.0
PRODID:-//Cambridge Wine Royston, Hertfordshire - ECPv5.16.1.1//NONSGML v1.0//EN
CALSCALE:GREGORIAN
METHOD:PUBLISH
X-WR-CALNAME:Cambridge Wine Royston, Hertfordshire
X-ORIGINAL-URL:https://www.cambridgewineroyston.com
X-WR-CALDESC:Events for Cambridge Wine Royston, Hertfordshire
BEGIN:VTIMEZONE
TZID:Europe/London
BEGIN:DAYLIGHT
TZOFFSETFROM:+0000
TZOFFSETTO:+0100
TZNAME:BST
DTSTART:20250330T010000
END:DAYLIGHT
BEGIN:STANDARD
TZOFFSETFROM:+0100
TZOFFSETTO:+0000
TZNAME:GMT
DTSTART:20251026T010000
END:STANDARD
END:VTIMEZONE
BEGIN:VEVENT
DTSTART;TZID=Europe/London:20250423T193000
DTEND;TZID=Europe/London:20250423T210000
DTSTAMP:20260424T221359
CREATED:20250219T111452Z
LAST-MODIFIED:20250312T093952Z
UID:4541778-1745436600-1745442000@www.cambridgewineroyston.com
SUMMARY:Picnic Cocktails
DESCRIPTION:Sold out – join the waiting list! Email: royston@cambridgewine.com  Get ready for summer! Join us for a fun night of ‘Picnic Cocktails’. Find your perfect tipple for the warm summer days ahead.  Hosted by The Cocktail Co.  We’ve tried and tested (and tried and tested 😉) our cocktails to give you the real deal in a bottle.  No ingredients or equipment needed. Just simply:  ICE IT – SHAKE IT – SERVE IT
URL:https://www.cambridgewineroyston.com/event/picnic-cocktails/
LOCATION:Cambridge Wine Royston\, 34b Kneesworth Street\, Royston\, Herts\, SG8 5AB\, United Kingdom
ATTACH;FMTTYPE=image/png:https://www.cambridgewineroyston.com/wp-content/uploads/2025/02/Cocktail.png
END:VEVENT
END:VCALENDAR