BEGIN:VCALENDAR
VERSION:2.0
PRODID:-//Cambridge Wine Royston, Hertfordshire - ECPv5.16.1.1//NONSGML v1.0//EN
CALSCALE:GREGORIAN
METHOD:PUBLISH
X-WR-CALNAME:Cambridge Wine Royston, Hertfordshire
X-ORIGINAL-URL:https://www.cambridgewineroyston.com
X-WR-CALDESC:Events for Cambridge Wine Royston, Hertfordshire
BEGIN:VTIMEZONE
TZID:Europe/London
BEGIN:DAYLIGHT
TZOFFSETFROM:+0000
TZOFFSETTO:+0100
TZNAME:BST
DTSTART:20260329T010000
END:DAYLIGHT
BEGIN:STANDARD
TZOFFSETFROM:+0100
TZOFFSETTO:+0000
TZNAME:GMT
DTSTART:20261025T010000
END:STANDARD
END:VTIMEZONE
BEGIN:VEVENT
DTSTART;TZID=Europe/London:20260304T193000
DTEND;TZID=Europe/London:20260304T210000
DTSTAMP:20260424T202442
CREATED:20251202T162107Z
LAST-MODIFIED:20260204T151504Z
UID:5043733-1772652600-1772658000@www.cambridgewineroyston.com
SUMMARY:Paso Robles Wine Tasting
DESCRIPTION:Join us for an exclusive DAOU wine tasting\, where elegance\, craftsmanship and California’s finest mountain-grown fruit come together in every glass. Discover why DAOU has become one of Paso Robles’ most celebrated producers as you explore beautifully balanced Cabernet Sauvignons\, expressive blends and luxurious reserve selections. This special event offers wine lovers a rare opportunity to experience the richness and refinement of DAOU’s portfolio\, guided by knowledgeable host\, Chris Blades\, who will share stories of the estate’s high-elevation vineyards and meticulous winemaking. Don’t miss this chance to sip\, learn and enjoy an unforgettable tasting crafted especially for you!
URL:https://www.cambridgewineroyston.com/event/paso-robles-wine-tasting/
LOCATION:Cambridge Wine Royston\, 34b Kneesworth Street\, Royston\, Herts\, SG8 5AB\, United Kingdom
ATTACH;FMTTYPE=image/png:https://www.cambridgewineroyston.com/wp-content/uploads/2025/12/Event-Tiles-Website-Socials-6.png
END:VEVENT
END:VCALENDAR