BEGIN:VCALENDAR
VERSION:2.0
PRODID:-//Cambridge Wine Royston, Hertfordshire - ECPv5.16.1.1//NONSGML v1.0//EN
CALSCALE:GREGORIAN
METHOD:PUBLISH
X-WR-CALNAME:Cambridge Wine Royston, Hertfordshire
X-ORIGINAL-URL:https://www.cambridgewineroyston.com
X-WR-CALDESC:Events for Cambridge Wine Royston, Hertfordshire
BEGIN:VTIMEZONE
TZID:Europe/London
BEGIN:DAYLIGHT
TZOFFSETFROM:+0000
TZOFFSETTO:+0100
TZNAME:BST
DTSTART:20240331T010000
END:DAYLIGHT
BEGIN:STANDARD
TZOFFSETFROM:+0100
TZOFFSETTO:+0000
TZNAME:GMT
DTSTART:20241027T010000
END:STANDARD
END:VTIMEZONE
BEGIN:VEVENT
DTSTART;TZID=Europe/London:20240926T193000
DTEND;TZID=Europe/London:20240926T220000
DTSTAMP:20260425T001838
CREATED:20240816T112944Z
LAST-MODIFIED:20240816T115348Z
UID:4540895-1727379000-1727388000@www.cambridgewineroyston.com
SUMMARY:Meet the Maker! From Patagonia to Mendoza
DESCRIPTION:We are excited to have Juan Pablo Murgia\, Head Winemaker at Bodega Argento (Mendoza) and Otronia (Patagonia) host an evening of Argentinian wine.  Taste wine from the most Southernly vineyards in the world (Otronia) and a range of favourites from Bodega Argento.  This evening includes Argentinian inspired cuisine from Kooky Nohmad. Dietary requirements can be catered for\, please let us know when completing your booking.
URL:https://www.cambridgewineroyston.com/event/meet-the-maker-from-patagonia-to-mendoza/
LOCATION:Kooky Nohmad\, 42 High St\, Royston\, SG8 9AG\, United Kingdom
ATTACH;FMTTYPE=image/png:https://www.cambridgewineroyston.com/wp-content/uploads/2024/08/Otronia-26th-September.png
END:VEVENT
END:VCALENDAR