BEGIN:VCALENDAR
VERSION:2.0
PRODID:-//Cambridge Wine Royston, Hertfordshire - ECPv5.16.1.1//NONSGML v1.0//EN
CALSCALE:GREGORIAN
METHOD:PUBLISH
X-WR-CALNAME:Cambridge Wine Royston, Hertfordshire
X-ORIGINAL-URL:https://www.cambridgewineroyston.com
X-WR-CALDESC:Events for Cambridge Wine Royston, Hertfordshire
BEGIN:VTIMEZONE
TZID:Europe/London
BEGIN:DAYLIGHT
TZOFFSETFROM:+0000
TZOFFSETTO:+0100
TZNAME:BST
DTSTART:20250330T010000
END:DAYLIGHT
BEGIN:STANDARD
TZOFFSETFROM:+0100
TZOFFSETTO:+0000
TZNAME:GMT
DTSTART:20251026T010000
END:STANDARD
END:VTIMEZONE
BEGIN:VEVENT
DTSTART;TZID=Europe/London:20250920T120000
DTEND;TZID=Europe/London:20250920T160000
DTSTAMP:20260424T221826
CREATED:20250901T104142Z
LAST-MODIFIED:20250901T104142Z
UID:5043224-1758369600-1758384000@www.cambridgewineroyston.com
SUMMARY:Gala in the Gardens: Royston Arts Festival
DESCRIPTION:Join us for wine tasting\, gifts and bar service at Gala in the Gardens.  Royston Arts Festival presents  “Gala In The Gardens The staging of this popular event would not have been possible this year without the kind assistance of members of the Rotary Club of Royston who joined Creative Royston as volunteers and in one case as a member of the festival committee. They brought us their experience of organising Royston Kite Festival and other events and took the lead in organising the range of family oriented entertainments and activities that you would normally find at this event. Expect children’s entertainment & free face painting and henna art; music; food; workshops and a wide range of stalls both commercial and publicising ongoing activities and opportunities in the town. Free to attend Saturday 20 September\, 12 noon – 4pm”
URL:https://www.cambridgewineroyston.com/event/gala-in-the-gardens-royston-arts-festival/
LOCATION:Priory Gardens\, Melbourn Street\, Royston\, SG8 9DX\, United Kingdom
ATTACH;FMTTYPE=image/png:https://www.cambridgewineroyston.com/wp-content/uploads/2025/09/Gala-in-the-Gardens.png
END:VEVENT
END:VCALENDAR