BEGIN:VCALENDAR
VERSION:2.0
PRODID:-//Cambridge Wine Royston, Hertfordshire - ECPv5.16.1.1//NONSGML v1.0//EN
CALSCALE:GREGORIAN
METHOD:PUBLISH
X-WR-CALNAME:Cambridge Wine Royston, Hertfordshire
X-ORIGINAL-URL:https://www.cambridgewineroyston.com
X-WR-CALDESC:Events for Cambridge Wine Royston, Hertfordshire
BEGIN:VTIMEZONE
TZID:Europe/London
BEGIN:DAYLIGHT
TZOFFSETFROM:+0000
TZOFFSETTO:+0100
TZNAME:BST
DTSTART:20240331T010000
END:DAYLIGHT
BEGIN:STANDARD
TZOFFSETFROM:+0100
TZOFFSETTO:+0000
TZNAME:GMT
DTSTART:20241027T010000
END:STANDARD
END:VTIMEZONE
BEGIN:VEVENT
DTSTART;TZID=Europe/London:20241214T170000
DTEND;TZID=Europe/London:20241214T200000
DTSTAMP:20260424T235451
CREATED:20241119T154633Z
LAST-MODIFIED:20241205T085950Z
UID:4541406-1734195600-1734206400@www.cambridgewineroyston.com
SUMMARY:Fundraiser: Cheese & Winyl for 'Jamie's Quest'
DESCRIPTION:*Change of Venue Announcement: Cheese & Winyl for Jamie’s Quest*  We have an important update regarding our *Cheese & Winyl* event in support of Jamie’s Quest. After listening to your feedback\, we’ve changed the venue and timings to better accommodate everyone.  *Join us at the Corn Exchange\, Royston* from 5pm until 8pm for a heartwarming evening of fine wine\, craft beer\, cheese and music\, perfect for kicking off your busy night while making a difference!  🗓 *Event Details:* •⁠ ⁠*Date:* 14th December •⁠ ⁠*Time:* 5 PM – 8 PM •⁠ ⁠*Venue:* Corn Exchange\, Royston •⁠ ⁠*Tickets:* £20 (includes a welcome drink and cheese)  Here’s the most important part: *every penny from ticket sales goes directly to Jamie’s Quest*\, supporting vital\, lifesaving treatment for a beloved local family. Jamie and his family are facing the toughest challenge of their lives\, and your support can truly make a difference.  This is more than just an event—it’s a chance for our community to come together and show Jamie we’re behind him every step of the way.  *Don’t miss out. Raise a glass\, share a smile\, and be part of something that could help save a life.*       Tickets are priced at £20.00 per person\, and include an arrival drink (beer or wine) and cheese. The full ticket amount will be donate to Jamie’s Quest.  Food and drink will be available to purchase on the evening as follows: Cheese: The Honest Fig Wine: Cambridge Wine Royston Beer: Buntingford Brewery    In addition to the main event\, we’re hosting an  online silent auction in the lead-up to the big night\, offering some truly special items for you to bid on. Be sure to join our new Facebook Group to stay up-to-date\, connect with other guests\, and even arrange a shared taxi to the event.         
URL:https://www.cambridgewineroyston.com/event/fundraiser-cheese-winyl-for-jamies-quest/
LOCATION:Royston Corn Exchange\, Market Hill\, Royston\, SG8 9JR\, United Kingdom
ATTACH;FMTTYPE=image/png:https://www.cambridgewineroyston.com/wp-content/uploads/2024/11/Jamies-Quest-Cheese-Winyl-4.png
END:VEVENT
END:VCALENDAR