BEGIN:VCALENDAR
VERSION:2.0
PRODID:-//Cambridge Wine Royston, Hertfordshire - ECPv5.16.1.1//NONSGML v1.0//EN
CALSCALE:GREGORIAN
METHOD:PUBLISH
X-WR-CALNAME:Cambridge Wine Royston, Hertfordshire
X-ORIGINAL-URL:https://www.cambridgewineroyston.com
X-WR-CALDESC:Events for Cambridge Wine Royston, Hertfordshire
BEGIN:VTIMEZONE
TZID:Europe/London
BEGIN:DAYLIGHT
TZOFFSETFROM:+0000
TZOFFSETTO:+0100
TZNAME:BST
DTSTART:20240331T010000
END:DAYLIGHT
BEGIN:STANDARD
TZOFFSETFROM:+0100
TZOFFSETTO:+0000
TZNAME:GMT
DTSTART:20241027T010000
END:STANDARD
END:VTIMEZONE
BEGIN:VEVENT
DTSTART;TZID=Europe/London:20241003T193000
DTEND;TZID=Europe/London:20241003T210000
DTSTAMP:20260425T015117
CREATED:20240828T160232Z
LAST-MODIFIED:20241003T143123Z
UID:4540924-1727983800-1727989200@www.cambridgewineroyston.com
SUMMARY:Domaine Lafage Wine Tasting
DESCRIPTION:Join Marion Peuzia for a tasting of wine from the harsh\, tropical vineyards of Domaine Lafage. Special offer for Liquid Loyalty customers: £5.00 per ticket\, redeemable against a purchase on the night. 
URL:https://www.cambridgewineroyston.com/event/domaine-lafage-wine-tasting/
LOCATION:Cambridge Wine Royston\, 34b Kneesworth Street\, Royston\, Herts\, SG8 5AB\, United Kingdom
ATTACH;FMTTYPE=image/png:https://www.cambridgewineroyston.com/wp-content/uploads/2024/08/Lafage-Tasting-1.png
END:VEVENT
END:VCALENDAR