BEGIN:VCALENDAR
VERSION:2.0
PRODID:-//Cambridge Wine Royston, Hertfordshire - ECPv5.16.1.1//NONSGML v1.0//EN
CALSCALE:GREGORIAN
METHOD:PUBLISH
X-WR-CALNAME:Cambridge Wine Royston, Hertfordshire
X-ORIGINAL-URL:https://www.cambridgewineroyston.com
X-WR-CALDESC:Events for Cambridge Wine Royston, Hertfordshire
BEGIN:VTIMEZONE
TZID:Europe/London
BEGIN:DAYLIGHT
TZOFFSETFROM:+0000
TZOFFSETTO:+0100
TZNAME:BST
DTSTART:20240331T010000
END:DAYLIGHT
BEGIN:STANDARD
TZOFFSETFROM:+0100
TZOFFSETTO:+0000
TZNAME:GMT
DTSTART:20241027T010000
END:STANDARD
END:VTIMEZONE
BEGIN:VEVENT
DTSTART;TZID=Europe/London:20241204T193000
DTEND;TZID=Europe/London:20241204T210000
DTSTAMP:20260424T235314
CREATED:20240830T161007Z
LAST-MODIFIED:20240830T161007Z
UID:4540974-1733340600-1733346000@www.cambridgewineroyston.com
SUMMARY:Cognac & Armagnac Tasting
DESCRIPTION:With Freddie Lawrence\, of premium importer\, Bunch & Bushell.  Enjoy an evening of fine spirits\, and find your perfect Christmas tipple
URL:https://www.cambridgewineroyston.com/event/cognac-armagnac-tasting/
LOCATION:Cambridge Wine Royston\, 34b Kneesworth Street\, Royston\, Herts\, SG8 5AB\, United Kingdom
ATTACH;FMTTYPE=image/png:https://www.cambridgewineroyston.com/wp-content/uploads/2024/08/December-2024-Brandy.png
END:VEVENT
END:VCALENDAR