BEGIN:VCALENDAR
VERSION:2.0
PRODID:-//Cambridge Wine Royston, Hertfordshire - ECPv5.16.1.1//NONSGML v1.0//EN
CALSCALE:GREGORIAN
METHOD:PUBLISH
X-WR-CALNAME:Cambridge Wine Royston, Hertfordshire
X-ORIGINAL-URL:https://www.cambridgewineroyston.com
X-WR-CALDESC:Events for Cambridge Wine Royston, Hertfordshire
BEGIN:VTIMEZONE
TZID:Europe/London
BEGIN:DAYLIGHT
TZOFFSETFROM:+0000
TZOFFSETTO:+0100
TZNAME:BST
DTSTART:20240331T010000
END:DAYLIGHT
BEGIN:STANDARD
TZOFFSETFROM:+0100
TZOFFSETTO:+0000
TZNAME:GMT
DTSTART:20241027T010000
END:STANDARD
END:VTIMEZONE
BEGIN:VEVENT
DTSTART;TZID=Europe/London:20241004T193000
DTEND;TZID=Europe/London:20241004T220000
DTSTAMP:20260425T000710
CREATED:20240828T163633Z
LAST-MODIFIED:20240828T163633Z
UID:4540929-1728070200-1728079200@www.cambridgewineroyston.com
SUMMARY:Cocktail Club: Gin! Gin! Gin!
DESCRIPTION:With Steve the Barman.  This time it’s all about gin. Join us for a night of cocktails and canapés!
URL:https://www.cambridgewineroyston.com/event/cocktail-club-gin-gin-gin/
LOCATION:Kooky Nohmad\, 42 High St\, Royston\, SG8 9AG\, United Kingdom
ATTACH;FMTTYPE=image/png:https://www.cambridgewineroyston.com/wp-content/uploads/2024/08/Cocktail-Club-October-2024.png
END:VEVENT
END:VCALENDAR