BEGIN:VCALENDAR
VERSION:2.0
PRODID:-//Cambridge Wine Royston, Hertfordshire - ECPv5.16.1.1//NONSGML v1.0//EN
CALSCALE:GREGORIAN
METHOD:PUBLISH
X-WR-CALNAME:Cambridge Wine Royston, Hertfordshire
X-ORIGINAL-URL:https://www.cambridgewineroyston.com
X-WR-CALDESC:Events for Cambridge Wine Royston, Hertfordshire
BEGIN:VTIMEZONE
TZID:Europe/London
BEGIN:DAYLIGHT
TZOFFSETFROM:+0000
TZOFFSETTO:+0100
TZNAME:BST
DTSTART:20250330T010000
END:DAYLIGHT
BEGIN:STANDARD
TZOFFSETFROM:+0100
TZOFFSETTO:+0000
TZNAME:GMT
DTSTART:20251026T010000
END:STANDARD
END:VTIMEZONE
BEGIN:VEVENT
DTSTART;TZID=Europe/London:20250710T193000
DTEND;TZID=Europe/London:20250710T213000
DTSTAMP:20260424T203425
CREATED:20250625T095303Z
LAST-MODIFIED:20250625T160029Z
UID:5042775-1752175800-1752183000@www.cambridgewineroyston.com
SUMMARY:Cigar & Cognac Evening
DESCRIPTION:Join us for our second Cigar & Cognac event.  Hosted by Tom Lewis of Hunters & Frankau\, importers and distributers of the world’s finest cigars.  What’s included:  1x Romeo y Julieta Short Churchill Cuban Cigar (RRP £39.99) 1x Hunters & Frankau cigar cutter & cigar matches (to take home!) A tasting of premium Maxime Trijol Cognac 1x Grazing Box from The Honest Fig (mixed cheese\, nuts\, charcuterie)  If you would like to enjoy a beer or a glass of wine\, drinks and extra food can also be purchased from The Honest Fig.
URL:https://www.cambridgewineroyston.com/event/cigar-cognac-evening-2025/
LOCATION:Royston Corn Exchange\, Market Hill\, Royston\, SG8 9JR\, United Kingdom
ATTACH;FMTTYPE=image/png:https://www.cambridgewineroyston.com/wp-content/uploads/2025/06/Cigar-Cognac-July-2025-2.png
END:VEVENT
END:VCALENDAR