BEGIN:VCALENDAR
VERSION:2.0
PRODID:-//Cambridge Wine Royston, Hertfordshire - ECPv5.16.1.1//NONSGML v1.0//EN
CALSCALE:GREGORIAN
METHOD:PUBLISH
X-WR-CALNAME:Cambridge Wine Royston, Hertfordshire
X-ORIGINAL-URL:https://www.cambridgewineroyston.com
X-WR-CALDESC:Events for Cambridge Wine Royston, Hertfordshire
BEGIN:VTIMEZONE
TZID:Europe/London
BEGIN:DAYLIGHT
TZOFFSETFROM:+0000
TZOFFSETTO:+0100
TZNAME:BST
DTSTART:20240331T010000
END:DAYLIGHT
BEGIN:STANDARD
TZOFFSETFROM:+0100
TZOFFSETTO:+0000
TZNAME:GMT
DTSTART:20241027T010000
END:STANDARD
END:VTIMEZONE
BEGIN:VEVENT
DTSTART;TZID=Europe/London:20240531T170000
DTEND;TZID=Europe/London:20240531T210000
DTSTAMP:20260425T012535
CREATED:20240521T080437Z
LAST-MODIFIED:20240523T081630Z
UID:4040105-1717174800-1717189200@www.cambridgewineroyston.com
SUMMARY:Cheese & Winyl - May 2024
DESCRIPTION:Cheese\, Wine\, Music & Beer!  Hosted by Cambridge Wine Royston\, The Honest Fig\, Revolution Records & Buntingford Brewery  Come along for our first ‘Cheese & Winyl’ event of the summer. The evening will take place at Royston Corn Exchange\, in the beautiful courtyard. We expect this event to be busy\, so to secure a spot we are releasing a limited number of spaces to book for 5:00-7:00pm and 7:00-9:00pm. There will be limited space for walk-ins\, keep an eye on social media for more information. If you book for 5:00-7:00pm and wish to stay later\, we will do our best to accommodate you.  Note that this is not a speaker-led tasting\, you can order whatever you like from the bar\, there will be a menu available with suggested pairings\, or why not experiment!  Booking is £10.00 per person\, and includes a wine and cheese pairing on arrival. The wine/cheese/beer bar will then be open for you to purchase whatever you like\, while listening to cool summer tunes from Revolution Records\, basking in the early evening sunshine (we hope!).  Please note that most tables are set up for 4 guests\, so if you book 2 tickets\, you may be on a sharing table with two other guests.  We’re excited to host this evening\, it is a new format for us that we hope to turn into a regular feature in the Royston Summer calendar. If you do not book in advance\, please come along as there will be walk-in tables available. Please note that we will stop admissions when we reach capacity.
URL:https://www.cambridgewineroyston.com/event/cheese-winyl-may-24/
LOCATION:Royston Corn Exchange\, Market Hill\, Royston\, SG8 9JR\, United Kingdom
ATTACH;FMTTYPE=image/png:https://www.cambridgewineroyston.com/wp-content/uploads/2024/05/Cheese-Winyl-Square.png
END:VEVENT
END:VCALENDAR