BEGIN:VCALENDAR
VERSION:2.0
PRODID:-//Cambridge Wine Royston, Hertfordshire - ECPv5.16.1.1//NONSGML v1.0//EN
CALSCALE:GREGORIAN
METHOD:PUBLISH
X-WR-CALNAME:Cambridge Wine Royston, Hertfordshire
X-ORIGINAL-URL:https://www.cambridgewineroyston.com
X-WR-CALDESC:Events for Cambridge Wine Royston, Hertfordshire
BEGIN:VTIMEZONE
TZID:Europe/London
BEGIN:DAYLIGHT
TZOFFSETFROM:+0000
TZOFFSETTO:+0100
TZNAME:BST
DTSTART:20250330T010000
END:DAYLIGHT
BEGIN:STANDARD
TZOFFSETFROM:+0100
TZOFFSETTO:+0000
TZNAME:GMT
DTSTART:20251026T010000
END:STANDARD
END:VTIMEZONE
BEGIN:VEVENT
DTSTART;TZID=Europe/London:20250306T193000
DTEND;TZID=Europe/London:20250306T213000
DTSTAMP:20260424T235252
CREATED:20250127T105203Z
LAST-MODIFIED:20250127T105203Z
UID:4541595-1741289400-1741296600@www.cambridgewineroyston.com
SUMMARY:Cheese & Wine Tasting
DESCRIPTION:We’re back with our first cheese and wine tasting of 2025!  Join us for an evening of cheese\, wine & fun with Linda (The Honest Fig) and Kirby (Cambridge Wine Royston).  The evening will consist of an arrival drink & cheese\, plus a tasting of five cheese & wine pairings.  Early booking is advised!
URL:https://www.cambridgewineroyston.com/event/cheese-wine-tasting/
LOCATION:The Old School House\, 4 Market Hill\, Royston\, SG8 9JL\, United Kingdom
ATTACH;FMTTYPE=image/png:https://www.cambridgewineroyston.com/wp-content/uploads/2025/01/Cheese-Wine-0603-Instagram-Post.png
END:VEVENT
END:VCALENDAR