BEGIN:VCALENDAR
VERSION:2.0
PRODID:-//Cambridge Wine Royston, Hertfordshire - ECPv5.16.1.1//NONSGML v1.0//EN
CALSCALE:GREGORIAN
METHOD:PUBLISH
X-WR-CALNAME:Cambridge Wine Royston, Hertfordshire
X-ORIGINAL-URL:https://www.cambridgewineroyston.com
X-WR-CALDESC:Events for Cambridge Wine Royston, Hertfordshire
BEGIN:VTIMEZONE
TZID:Europe/London
BEGIN:DAYLIGHT
TZOFFSETFROM:+0000
TZOFFSETTO:+0100
TZNAME:BST
DTSTART:20240331T010000
END:DAYLIGHT
BEGIN:STANDARD
TZOFFSETFROM:+0100
TZOFFSETTO:+0000
TZNAME:GMT
DTSTART:20241027T010000
END:STANDARD
END:VTIMEZONE
BEGIN:VEVENT
DTSTART;TZID=Europe/London:20240614T190000
DTEND;TZID=Europe/London:20240614T220000
DTSTAMP:20260425T001704
CREATED:20240521T112648Z
LAST-MODIFIED:20240610T185357Z
UID:4040112-1718391600-1718402400@www.cambridgewineroyston.com
SUMMARY:Cheese & Wine Tasting @ The Lodge\, Duxford
DESCRIPTION:Special ticket price for Cambridge Wine & The Honest Fig customers! Was £40.00 Now £35.00  Cambridge Wine Royston and The Honest Fig are teaming up to host an even at The Lodge\, Duxford.  Join us for a night of cheese and wine pairing in this beautiful venue.  Your ticket includes an arrival drink and nibbles\, plus five cheese and wine pairings.
URL:https://www.cambridgewineroyston.com/event/cheese-wine-tasting-the-lodge-duxford/
LOCATION:Duxford Lodge\, Duxford Lodge\, Ickleton Rd\, Cambridge\, CB22 4RT\, United Kingdom
ATTACH;FMTTYPE=image/png:https://www.cambridgewineroyston.com/wp-content/uploads/2024/05/Dux-Lodge-Wine-1.png
END:VEVENT
END:VCALENDAR