BEGIN:VCALENDAR
VERSION:2.0
PRODID:-//Cambridge Wine Royston, Hertfordshire - ECPv5.16.1.1//NONSGML v1.0//EN
CALSCALE:GREGORIAN
METHOD:PUBLISH
X-WR-CALNAME:Cambridge Wine Royston, Hertfordshire
X-ORIGINAL-URL:https://www.cambridgewineroyston.com
X-WR-CALDESC:Events for Cambridge Wine Royston, Hertfordshire
BEGIN:VTIMEZONE
TZID:Europe/London
BEGIN:DAYLIGHT
TZOFFSETFROM:+0000
TZOFFSETTO:+0100
TZNAME:BST
DTSTART:20240331T010000
END:DAYLIGHT
BEGIN:STANDARD
TZOFFSETFROM:+0100
TZOFFSETTO:+0000
TZNAME:GMT
DTSTART:20241027T010000
END:STANDARD
END:VTIMEZONE
BEGIN:VEVENT
DTSTART;TZID=Europe/London:20241116T190000
DTEND;TZID=Europe/London:20241116T220000
DTSTAMP:20260424T221358
CREATED:20241017T152951Z
LAST-MODIFIED:20241017T153141Z
UID:4541156-1731783600-1731794400@www.cambridgewineroyston.com
SUMMARY:Cheese & Wine Tasting for Home-Start
DESCRIPTION:Tickets available directly from Home-Start Click Here to book  Do you love cheese? Do you love wine? We’ve teamed up with Linda O’Sullivan from The Honest Fig and Kirby Morrow from Cambridge Wine Royston to bring you an indulgent cheese and wine pairing evening!  Join us on Saturday\, 16th November at Meldreth Village Hall. The evening kicks off at 7 pm (for a 7:30 pm start)\, offering a delightful experience for your taste buds.  During the evening\, you’ll experience a carefully curated selection of five artisan cheeses paired with exquisite wines. Linda and Kirby\, both experts in their fields\, will guide you through each pairing\, sharing the stories behind the wines and cheeses\, and explaining how the flavors complement one another. Whether you’re a cheese lover\, a wine enthusiast\, or just looking for a fun night out\, this event promises to be both informative and enjoyable.  To make the evening even more exciting\, we’ll also be holding a raffle with fantastic prizes\, and both cash and card payments will be accepted for raffle entries.  The ticket price includes a complimentary glass of bubbly and all five cheese and wine pairings. The event will wrap up around 10 pm\, giving you plenty of time to savour each pairing and enjoy the company of fellow guests.  About Our Partners The Honest Fig: Based in Royston\, The Honest Fig is known for its commitment to fresh\, seasonal produce and artisanal goods. They focus on creating delectable food pairings that highlight local flavours and sustainable ingredients. Their emphasis on high-quality\, fresh produce makes them the perfect partner to elevate this tasting event.  Cambridge Wine Royston: Cambridge Wine is a local favourite\, renowned for its extensive selection of wines and its strong presence in Royston. With a reputation for hosting wine tastings that are both educational and enjoyable\, Cambridge Wine will guide you through each pairing\, sharing the unique stories behind the wines chosen for this evening.  This is a perfect opportunity to enjoy a wonderful evening while supporting our charity and the work we do with local families!
URL:https://www.cambridgewineroyston.com/event/cheese-wine-tasting-for-home-start/
LOCATION:Meldreth Village Hall\, High Street\, Meldreth\, SG8 6LB
ATTACH;FMTTYPE=image/png:https://www.cambridgewineroyston.com/wp-content/uploads/2024/10/Untitled-design-34.png
END:VEVENT
END:VCALENDAR