BEGIN:VCALENDAR
VERSION:2.0
PRODID:-//Cambridge Wine Royston, Hertfordshire - ECPv5.16.1.1//NONSGML v1.0//EN
CALSCALE:GREGORIAN
METHOD:PUBLISH
X-WR-CALNAME:Cambridge Wine Royston, Hertfordshire
X-ORIGINAL-URL:https://www.cambridgewineroyston.com
X-WR-CALDESC:Events for Cambridge Wine Royston, Hertfordshire
BEGIN:VTIMEZONE
TZID:Europe/London
BEGIN:DAYLIGHT
TZOFFSETFROM:+0000
TZOFFSETTO:+0100
TZNAME:BST
DTSTART:20260329T010000
END:DAYLIGHT
BEGIN:STANDARD
TZOFFSETFROM:+0100
TZOFFSETTO:+0000
TZNAME:GMT
DTSTART:20261025T010000
END:STANDARD
END:VTIMEZONE
BEGIN:VEVENT
DTSTART;TZID=Europe/London:20260123T193000
DTEND;TZID=Europe/London:20260123T213000
DTSTAMP:20260424T184154
CREATED:20250903T162623Z
LAST-MODIFIED:20260108T155000Z
UID:5043306-1769196600-1769203800@www.cambridgewineroyston.com
SUMMARY:Burns Night Whisky Tasting
DESCRIPTION:Celebrate Burns Night with our special whisky tasting\, “From Mountains to Islands in Scotland.” Journey through five distinctive Scotch whiskies\, each showcasing the character of its region. Enjoy rich traditions\, bold flavours and warm hospitality as we raise a dram to Scotland’s heritage. Line-up will be announced on our social media channels by Kenneth!
URL:https://www.cambridgewineroyston.com/event/burns-night-whisky-tasting-save-the-date/
LOCATION:The Old School House\, 4 Market Hill\, Royston\, SG8 9JL\, United Kingdom
ATTACH;FMTTYPE=image/png:https://www.cambridgewineroyston.com/wp-content/uploads/2025/09/Whisky-Club-Burns.png
END:VEVENT
END:VCALENDAR