BEGIN:VCALENDAR
VERSION:2.0
PRODID:-//Cambridge Wine Royston, Hertfordshire - ECPv5.16.1.1//NONSGML v1.0//EN
CALSCALE:GREGORIAN
METHOD:PUBLISH
X-WR-CALNAME:Cambridge Wine Royston, Hertfordshire
X-ORIGINAL-URL:https://www.cambridgewineroyston.com
X-WR-CALDESC:Events for Cambridge Wine Royston, Hertfordshire
BEGIN:VTIMEZONE
TZID:Europe/London
BEGIN:DAYLIGHT
TZOFFSETFROM:+0000
TZOFFSETTO:+0100
TZNAME:BST
DTSTART:20240331T010000
END:DAYLIGHT
BEGIN:STANDARD
TZOFFSETFROM:+0100
TZOFFSETTO:+0000
TZNAME:GMT
DTSTART:20241027T010000
END:STANDARD
END:VTIMEZONE
BEGIN:VEVENT
DTSTART;TZID=Europe/London:20241220T173000
DTEND;TZID=Europe/London:20241220T213000
DTSTAMP:20260424T235717
CREATED:20241018T122836Z
LAST-MODIFIED:20241018T124845Z
UID:4541162-1734715800-1734730200@www.cambridgewineroyston.com
SUMMARY:Bottomless Booze & Beats: Christmas Special
DESCRIPTION:A Cheese & Winyl production! Tickets extremely limited.  Join us for an evening of Raclette\, bottomless booze & beats at Buntingford Brewery.  With Revolution Records\, The Honest Fig & Cambridge Wine Royston  How it works: Purchase either a beer or wine ticket – Beer ticket: Includes raclette and bottomless Buntingford Brewery Beer Wine ticket: Includes raclette and bottomless red\, white\, rosé or fizz. (There will also be a couple of premium options available by the glass for a small subsidy.)  We expect this event to sell out very quickly\, but if you miss out\, don’t despair! We will be announcing more Cheese & Winyl events soon.   
URL:https://www.cambridgewineroyston.com/event/bottomless-booze-beats-christmas-special/
LOCATION:Buntingford Brewery\, Greys Brewhouse\, Therfield Road\, Royston\, SG8 9NW\, United Kingdom
ATTACH;FMTTYPE=image/png:https://www.cambridgewineroyston.com/wp-content/uploads/2024/10/Bottomless-Beats-Booze-1.png
END:VEVENT
END:VCALENDAR