BEGIN:VCALENDAR
VERSION:2.0
PRODID:-//Cambridge Wine Royston, Hertfordshire - ECPv5.16.1.1//NONSGML v1.0//EN
CALSCALE:GREGORIAN
METHOD:PUBLISH
X-WR-CALNAME:Cambridge Wine Royston, Hertfordshire
X-ORIGINAL-URL:https://www.cambridgewineroyston.com
X-WR-CALDESC:Events for Cambridge Wine Royston, Hertfordshire
BEGIN:VTIMEZONE
TZID:Europe/London
BEGIN:DAYLIGHT
TZOFFSETFROM:+0000
TZOFFSETTO:+0100
TZNAME:BST
DTSTART:20230326T010000
END:DAYLIGHT
BEGIN:STANDARD
TZOFFSETFROM:+0100
TZOFFSETTO:+0000
TZNAME:GMT
DTSTART:20231029T010000
END:STANDARD
END:VTIMEZONE
BEGIN:VEVENT
DTSTART;TZID=Europe/London:20230426T193000
DTEND;TZID=Europe/London:20230426T210000
DTSTAMP:20260425T035907
CREATED:20230119T142750Z
LAST-MODIFIED:20230126T172233Z
UID:3538452-1682537400-1682542800@www.cambridgewineroyston.com
SUMMARY:Beer Tasting - Details Announced Soon
DESCRIPTION:Save the date – details coming soon!  Interested in joining our beer mailing list and hearing about new releases and limited edition availability? Fill in your details below or CLICK HERE.       Join the Cambridge Wine Royston Beer Club! * indicates required Email Address *    First Name *    Last Name
URL:https://www.cambridgewineroyston.com/event/beer-tasting-april23/
LOCATION:Cambridge Wine Royston\, 34b Kneesworth Street\, Royston\, Herts\, SG8 5AB\, United Kingdom
ATTACH;FMTTYPE=image/png:https://www.cambridgewineroyston.com/wp-content/uploads/2023/01/Beer-Tasting-April.png
END:VEVENT
END:VCALENDAR