BEGIN:VCALENDAR
VERSION:2.0
PRODID:-//Cambridge Wine Royston, Hertfordshire - ECPv5.16.1.1//NONSGML v1.0//EN
CALSCALE:GREGORIAN
METHOD:PUBLISH
X-WR-CALNAME:Cambridge Wine Royston, Hertfordshire
X-ORIGINAL-URL:https://www.cambridgewineroyston.com
X-WR-CALDESC:Events for Cambridge Wine Royston, Hertfordshire
BEGIN:VTIMEZONE
TZID:Europe/London
BEGIN:DAYLIGHT
TZOFFSETFROM:+0000
TZOFFSETTO:+0100
TZNAME:BST
DTSTART:20250330T010000
END:DAYLIGHT
BEGIN:STANDARD
TZOFFSETFROM:+0100
TZOFFSETTO:+0000
TZNAME:GMT
DTSTART:20251026T010000
END:STANDARD
END:VTIMEZONE
BEGIN:VEVENT
DTSTART;TZID=Europe/London:20250510T100000
DTEND;TZID=Europe/London:20250510T160000
DTSTAMP:20260424T215836
CREATED:20250422T124119Z
LAST-MODIFIED:20250422T124119Z
UID:5042471-1746871200-1746892800@www.cambridgewineroyston.com
SUMMARY:Barkway Market
DESCRIPTION:Come Find Us at Barkway Market! 🍷🍹🛍️  We’re excited to be popping up at Barkway Market with our very own drinks stall — and we’ve got something for everyone!  ✨ Sip & Stroll:Enjoy a refreshing glass of wine\, sake\, or a special cocktail while you browse the market.  🍾 Take the Taste Home:We’ll also have a handpicked selection of wines available to take away\, perfect for weekend plans or a treat for later.  Whether you’re coming for the atmosphere\, the shopping\, or just a great drink in hand — we’d love to see you there!  For more information visit: https://www.barkwaymarket.org/market-guide  Cheers! 🍷🛒
URL:https://www.cambridgewineroyston.com/event/barkway-market/
ATTACH;FMTTYPE=image/png:https://www.cambridgewineroyston.com/wp-content/uploads/2025/04/Barkway-Market.png
END:VEVENT
END:VCALENDAR