BEGIN:VCALENDAR
VERSION:2.0
PRODID:-//Cambridge Wine Royston, Hertfordshire - ECPv5.16.1.1//NONSGML v1.0//EN
CALSCALE:GREGORIAN
METHOD:PUBLISH
X-WR-CALNAME:Cambridge Wine Royston, Hertfordshire
X-ORIGINAL-URL:https://www.cambridgewineroyston.com
X-WR-CALDESC:Events for Cambridge Wine Royston, Hertfordshire
BEGIN:VTIMEZONE
TZID:Europe/London
BEGIN:DAYLIGHT
TZOFFSETFROM:+0000
TZOFFSETTO:+0100
TZNAME:BST
DTSTART:20250330T010000
END:DAYLIGHT
BEGIN:STANDARD
TZOFFSETFROM:+0100
TZOFFSETTO:+0000
TZNAME:GMT
DTSTART:20251026T010000
END:STANDARD
END:VTIMEZONE
BEGIN:VEVENT
DTSTART;TZID=Europe/London:20250612T193000
DTEND;TZID=Europe/London:20250612T210000
DTSTAMP:20260424T202244
CREATED:20250216T152526Z
LAST-MODIFIED:20250216T152526Z
UID:4541755-1749756600-1749762000@www.cambridgewineroyston.com
SUMMARY:Back to Classics: A Miscellany
DESCRIPTION:Wine Club goes back to the classics! New to wine\, or ‘know your stuff’\, these events have something for everyone.  It’s been great fun tasting our way through some of the new developments in the world of wine over the last couple of years. 2025 seems like a good opportunity to reset and restart our tasting adventures.  This next series will see a return to fundamentals\, looking at the essential styles of wine by way of the classics. We will investigate the principles of wine making and wine tasting\, explore benchmark styles and show how they have developed\, and continue to build our understanding of how (and why) to fully appreciate wine.  Each session can act as a stand alone tasting\, or as a part of a series\, so whether you’re new to wine tasting or looking to broaden your knowledge there is something here for everyone.  And remember\, Wine Club is just a fun name for our tasting sessions. There’s no subscription or ongoing fees – just buy your tickets and get involved!  Thursday 3rd April: Back to the classics – France  Thursday 1st May: Back to the classics – The New World  Thursday 12th June: Back to the classics – A Miscellany
URL:https://www.cambridgewineroyston.com/event/back-to-classics-a-miscellany/
LOCATION:Cambridge Wine Royston\, 34b Kneesworth Street\, Royston\, Herts\, SG8 5AB\, United Kingdom
ATTACH;FMTTYPE=image/png:https://www.cambridgewineroyston.com/wp-content/uploads/2025/02/Wine-Club-12th-June.png
END:VEVENT
END:VCALENDAR