BEGIN:VCALENDAR
VERSION:2.0
PRODID:-//Cambridge Wine Royston, Hertfordshire - ECPv5.16.1.1//NONSGML v1.0//EN
CALSCALE:GREGORIAN
METHOD:PUBLISH
X-WR-CALNAME:Cambridge Wine Royston, Hertfordshire
X-ORIGINAL-URL:https://www.cambridgewineroyston.com
X-WR-CALDESC:Events for Cambridge Wine Royston, Hertfordshire
BEGIN:VTIMEZONE
TZID:Europe/London
BEGIN:DAYLIGHT
TZOFFSETFROM:+0000
TZOFFSETTO:+0100
TZNAME:BST
DTSTART:20230326T010000
END:DAYLIGHT
BEGIN:STANDARD
TZOFFSETFROM:+0100
TZOFFSETTO:+0000
TZNAME:GMT
DTSTART:20231029T010000
END:STANDARD
END:VTIMEZONE
BEGIN:VEVENT
DTSTART;TZID=Europe/London:20230623T193000
DTEND;TZID=Europe/London:20230623T223000
DTSTAMP:20260425T035757
CREATED:20230518T142819Z
LAST-MODIFIED:20230518T143037Z
UID:3538767-1687548600-1687559400@www.cambridgewineroyston.com
SUMMARY:Australian Wine Tasting & BBQ
DESCRIPTION:A fun night of Australian wine tasting and BBQ!  Your ticket includes:  Wine tasting: 5 Australian wines\, hosted by Cecilia Gibbons from the Rathbone Wine Group  BBQ by Meat Up – Fresh\, locally sourced ingredients. Quality meat provided by CA Leech & Sons\, Melbourn. Menu below\, vegetarian & vegan options available.  A voucher for a glass of wine to enjoy with your BBQ at the end of the tasting. Further glasses will be available to purchase on the night.
URL:https://www.cambridgewineroyston.com/event/australian-wine-tasting-bbq/
LOCATION:Royston Museum\, 5 Lower King St\, Royston\, SG8 5AL\, United Kingdom
ATTACH;FMTTYPE=image/png:https://www.cambridgewineroyston.com/wp-content/uploads/2023/05/Australian-Wine-BBQ.png
ORGANIZER;CN="Cambridge%20Wine%20Royston":MAILTO:royston@cambridgewine.com
END:VEVENT
END:VCALENDAR