BEGIN:VCALENDAR
VERSION:2.0
PRODID:-//Cambridge Wine Royston, Hertfordshire - ECPv5.16.1.1//NONSGML v1.0//EN
CALSCALE:GREGORIAN
METHOD:PUBLISH
X-WR-CALNAME:Cambridge Wine Royston, Hertfordshire
X-ORIGINAL-URL:https://www.cambridgewineroyston.com
X-WR-CALDESC:Events for Cambridge Wine Royston, Hertfordshire
BEGIN:VTIMEZONE
TZID:Europe/London
BEGIN:DAYLIGHT
TZOFFSETFROM:+0000
TZOFFSETTO:+0100
TZNAME:BST
DTSTART:20250330T010000
END:DAYLIGHT
BEGIN:STANDARD
TZOFFSETFROM:+0100
TZOFFSETTO:+0000
TZNAME:GMT
DTSTART:20251026T010000
END:STANDARD
END:VTIMEZONE
BEGIN:VEVENT
DTSTART;TZID=Europe/London:20250402T193000
DTEND;TZID=Europe/London:20250402T213000
DTSTAMP:20260424T221618
CREATED:20250304T190308Z
LAST-MODIFIED:20250326T145458Z
UID:4541875-1743622200-1743629400@www.cambridgewineroyston.com
SUMMARY:Amrut Indian Whisky Tasting
DESCRIPTION:Amrut was established in 1948 and is still owned by the Jagdale family. They were the first Indian distillery to release a single malt and they continue to make whisky that can rival that from Scotland. Due to its location\, Amrut enjoys an accelerated maturation of its whiskies (3-4 times that of Scotland) however the Angel’s share can be 15% per year. The distillery takes its name from the elixir of life in Indian mythology – ‘Amrut’.  Wednesday 2nd April 2025 – 7:30pm  MITr – 41 Kneesworth Street\, Royston  Tickets: £35.00  To include a tasting of 5 whiskies from Amrut Distillery & Indian canapés served by MITr.   Amrut Single Malt Amrut Fusion Amrut Peated Amrut Single Malt Cask Strength Amrut Ex Bourbon Cask  Canapés:   Beetroot and Spiced Vegetable Cakes\, Mint Dip (v) Tandoori Spiced Vegetables Gyoza\, Peri Peri Sauce  Fish Amritsari\, Coriander and Mint Dip Peppercorn Chicken Tikka Yogurt Dip 
URL:https://www.cambridgewineroyston.com/event/amrut-indian-whisky-tasting/
LOCATION:MITr\, 41 Kneesworth Street\, Royston\, SG8 5AB\, United Kingdom
ATTACH;FMTTYPE=image/png:https://www.cambridgewineroyston.com/wp-content/uploads/2025/03/Amrut-Whisky-Tasting.png
END:VEVENT
END:VCALENDAR